Package: gDRutils Version: 1.4.0 Command: /Library/Frameworks/R.framework/Resources/bin/R CMD INSTALL gDRutils StartedAt: 2025-01-30 16:18:57 -0500 (Thu, 30 Jan 2025) EndedAt: 2025-01-30 16:19:52 -0500 (Thu, 30 Jan 2025) EllapsedTime: 55.0 seconds RetCode: 0 Status: OK