Package: gDRutils Version: 1.4.0 Command: /home/biocbuild/bbs-3.20-bioc/R/bin/R CMD build --keep-empty-dirs --no-resave-data --md5 gDRutils StartedAt: 2025-01-30 17:20:49 -0500 (Thu, 30 Jan 2025) EndedAt: 2025-01-30 17:21:21 -0500 (Thu, 30 Jan 2025) EllapsedTime: 32.0 seconds RetCode: 0 Status: OK PackageFile: gDRutils_1.4.0.tar.gz PackageFileSize: 328.4 KiB