Package: gDRutils Version: 1.4.0 Command: /home/biocbuild/bbs-3.20-bioc/R/bin/R CMD check --install=check:gDRutils.install-out.txt --library=/home/biocbuild/bbs-3.20-bioc/R/site-library --timings gDRutils_1.4.0.tar.gz StartedAt: 2025-01-30 22:23:53 -0500 (Thu, 30 Jan 2025) EndedAt: 2025-01-30 22:27:27 -0500 (Thu, 30 Jan 2025) EllapsedTime: 213.3 seconds RetCode: 0 Status: OK CheckDir: gDRutils.Rcheck Warnings: 0