Package: gDRutils Version: 1.3.5 Command: C:\Users\biocbuild\bbs-3.20-bioc\R\bin\R.exe CMD INSTALL gDRutils StartedAt: 2024-07-15 16:00:49 -0400 (Mon, 15 Jul 2024) EndedAt: 2024-07-15 16:01:25 -0400 (Mon, 15 Jul 2024) EllapsedTime: 35.5 seconds RetCode: 0 Status: OK