Package: gDRutils Version: 1.4.0 Command: rm -rf gDRutils.buildbin-libdir && mkdir gDRutils.buildbin-libdir && F:\biocbuild\bbs-3.20-bioc\R\bin\R.exe CMD INSTALL --build --library=gDRutils.buildbin-libdir gDRutils_1.4.0.tar.gz StartedAt: 2025-01-31 08:41:47 -0500 (Fri, 31 Jan 2025) EndedAt: 2025-01-31 08:43:07 -0500 (Fri, 31 Jan 2025) EllapsedTime: 79.9 seconds RetCode: 0 Status: OK PackageFile: gDRutils_1.4.0.zip PackageFileSize: 628.2 KiB