Package: gDRutils Version: 1.4.0 Command: /home/biocbuild/R/R/bin/R CMD check --install=check:gDRutils.install-out.txt --library=/home/biocbuild/R/R/site-library --no-vignettes --timings gDRutils_1.4.0.tar.gz StartedAt: 2025-01-31 06:27:02 -0000 (Fri, 31 Jan 2025) EndedAt: 2025-01-31 06:31:10 -0000 (Fri, 31 Jan 2025) EllapsedTime: 248.2 seconds RetCode: 0 Status: OK CheckDir: gDRutils.Rcheck Warnings: 0