Package: gDRutils Version: 1.4.0 Command: /home/biocbuild/R/R/bin/R CMD INSTALL gDRutils StartedAt: 2025-01-30 20:52:38 -0000 (Thu, 30 Jan 2025) EndedAt: 2025-01-30 20:53:05 -0000 (Thu, 30 Jan 2025) EllapsedTime: 26.6 seconds RetCode: 0 Status: OK