Package: gINTomics
Version: 1.2.0
Command: /Library/Frameworks/R.framework/Resources/bin/R CMD INSTALL gINTomics
StartedAt: 2024-11-19 15:35:13 -0500 (Tue, 19 Nov 2024)
EndedAt: 2024-11-19 15:36:54 -0500 (Tue, 19 Nov 2024)
EllapsedTime: 101.4 seconds
RetCode: 0
Status: OK