Package: gINTomics Version: 1.2.0 Command: /home/biocbuild/R/R/bin/R CMD check --install=check:gINTomics.install-out.txt --library=/home/biocbuild/R/R/site-library --no-vignettes --timings gINTomics_1.2.0.tar.gz StartedAt: 2025-02-04 07:29:40 -0000 (Tue, 04 Feb 2025) EndedAt: 2025-02-04 07:39:33 -0000 (Tue, 04 Feb 2025) EllapsedTime: 593.5 seconds RetCode: 0 Status: OK CheckDir: gINTomics.Rcheck Warnings: 0