Package: gage Version: 2.56.0 Command: rm -rf gage.buildbin-libdir && mkdir gage.buildbin-libdir && /Users/biocbuild/BBS/utils/build-universal.sh gage_2.56.0.tar.gz /Library/Frameworks/R.framework/Resources/bin/R gage.buildbin-libdir StartedAt: 2025-02-05 15:55:07 -0500 (Wed, 05 Feb 2025) EndedAt: 2025-02-05 15:55:26 -0500 (Wed, 05 Feb 2025) EllapsedTime: 19.0 seconds RetCode: 0 Status: OK PackageFile: gage_2.56.0.tgz PackageFileSize: 4.414 MiB