Package: gage
Version: 2.55.0
Command: chmod a+r gage -R && C:\Users\biocbuild\bbs-3.20-bioc\R\bin\R.exe CMD build --keep-empty-dirs --no-resave-data gage
StartedAt: 2024-07-15 18:11:34 -0400 (Mon, 15 Jul 2024)
EndedAt: 2024-07-15 18:14:07 -0400 (Mon, 15 Jul 2024)
EllapsedTime: 153.6 seconds
RetCode: 0
Status: OK
PackageFile: gage_2.55.0.tar.gz
PackageFileSize: 4.298 <A href="http://en.wikipedia.org/wiki/MiB" target="_blank">MiB</A>