Package: gage Version: 2.56.0 Command: chmod a+r gage -R && F:\biocbuild\bbs-3.20-bioc\R\bin\R.exe CMD build --keep-empty-dirs --no-resave-data gage StartedAt: 2025-02-03 19:17:28 -0500 (Mon, 03 Feb 2025) EndedAt: 2025-02-03 19:20:53 -0500 (Mon, 03 Feb 2025) EllapsedTime: 205.2 seconds RetCode: 0 Status: OK PackageFile: gage_2.56.0.tar.gz PackageFileSize: 4.298 MiB