Package: gage Version: 2.56.0 Command: /home/biocbuild/R/R/bin/R CMD check --install=check:gage.install-out.txt --library=/home/biocbuild/R/R/site-library --no-vignettes --timings gage_2.56.0.tar.gz StartedAt: 2025-02-04 07:08:13 -0000 (Tue, 04 Feb 2025) EndedAt: 2025-02-04 07:10:26 -0000 (Tue, 04 Feb 2025) EllapsedTime: 133.1 seconds RetCode: 0 Status: WARNINGS CheckDir: gage.Rcheck Warnings: 1