Package: garfield
Version: 1.34.0
Command: /home/biocbuild/bbs-3.20-bioc/R/bin/R CMD INSTALL garfield
StartedAt: 2025-02-13 15:08:21 -0500 (Thu, 13 Feb 2025)
EndedAt: 2025-02-13 15:08:30 -0500 (Thu, 13 Feb 2025)
EllapsedTime: 8.9 seconds
RetCode: 0
Status: OK