##############################################################################
##############################################################################
###
### Running command:
###
###   chmod a+r garfield -R && C:\Users\biocbuild\bbs-3.20-bioc\R\bin\R.exe CMD build --keep-empty-dirs --no-resave-data garfield
###
##############################################################################
##############################################################################


* checking for file 'garfield/DESCRIPTION' ... OK
* preparing 'garfield':
* checking DESCRIPTION meta-information ... OK
* cleaning src
* installing the package to build vignettes
* creating vignettes ... OK
* cleaning src
* checking for LF line-endings in source and make files and shell scripts
* checking for empty or unneeded directories
* building 'garfield_1.33.0.tar.gz'