Package: gatom Version: 1.4.0 Command: /Library/Frameworks/R.framework/Resources/bin/R CMD check --install=check:gatom.install-out.txt --library=/Library/Frameworks/R.framework/Resources/library --no-vignettes --timings gatom_1.4.0.tar.gz StartedAt: 2025-01-31 19:50:38 -0500 (Fri, 31 Jan 2025) EndedAt: 2025-01-31 19:54:30 -0500 (Fri, 31 Jan 2025) EllapsedTime: 231.9 seconds RetCode: 1 Status: ERROR CheckDir: gatom.Rcheck Warnings: NA