Package: gatom Version: 1.4.0 Command: /Library/Frameworks/R.framework/Resources/bin/R CMD INSTALL gatom StartedAt: 2025-01-30 16:36:10 -0500 (Thu, 30 Jan 2025) EndedAt: 2025-01-30 16:36:30 -0500 (Thu, 30 Jan 2025) EllapsedTime: 19.6 seconds RetCode: 0 Status: OK