Package: gatom Version: 1.4.0 Command: /Library/Frameworks/R.framework/Resources/bin/R CMD INSTALL gatom StartedAt: 2025-01-30 15:55:18 -0500 (Thu, 30 Jan 2025) EndedAt: 2025-01-30 15:55:55 -0500 (Thu, 30 Jan 2025) EllapsedTime: 36.7 seconds RetCode: 0 Status: OK