Package: gatom Version: 1.4.0 Command: rm -rf gatom.buildbin-libdir && mkdir gatom.buildbin-libdir && F:\biocbuild\bbs-3.20-bioc\R\bin\R.exe CMD INSTALL --build --library=gatom.buildbin-libdir gatom_1.4.0.tar.gz StartedAt: 2025-01-31 08:41:24 -0500 (Fri, 31 Jan 2025) EndedAt: 2025-01-31 08:42:00 -0500 (Fri, 31 Jan 2025) EllapsedTime: 36.3 seconds RetCode: 0 Status: OK PackageFile: gatom_1.4.0.zip PackageFileSize: 1.784 MiB