Package: gatom Version: 1.4.0 Command: chmod a+r gatom -R && F:\biocbuild\bbs-3.20-bioc\R\bin\R.exe CMD build --keep-empty-dirs --no-resave-data gatom StartedAt: 2025-01-30 19:02:56 -0500 (Thu, 30 Jan 2025) EndedAt: 2025-01-30 19:12:01 -0500 (Thu, 30 Jan 2025) EllapsedTime: 545.4 seconds RetCode: 0 Status: OK PackageFile: gatom_1.4.0.tar.gz PackageFileSize: 1.609 MiB