Package: gatom Version: 1.4.0 Command: F:\biocbuild\bbs-3.20-bioc\R\bin\R.exe CMD INSTALL gatom StartedAt: 2025-01-30 15:48:32 -0500 (Thu, 30 Jan 2025) EndedAt: 2025-01-30 15:49:10 -0500 (Thu, 30 Jan 2025) EllapsedTime: 38.5 seconds RetCode: 0 Status: OK