Package: gcapc Version: 1.30.0 Command: /Library/Frameworks/R.framework/Resources/bin/R CMD check --install=check:gcapc.install-out.txt --library=/Library/Frameworks/R.framework/Resources/library --no-vignettes --timings gcapc_1.30.0.tar.gz StartedAt: 2025-02-04 20:20:11 -0500 (Tue, 04 Feb 2025) EndedAt: 2025-02-04 20:27:33 -0500 (Tue, 04 Feb 2025) EllapsedTime: 441.7 seconds RetCode: 0 Status: OK CheckDir: gcapc.Rcheck Warnings: 0