Package: gcapc Version: 1.30.0 Command: /Library/Frameworks/R.framework/Resources/bin/R CMD INSTALL gcapc StartedAt: 2025-02-03 15:44:18 -0500 (Mon, 03 Feb 2025) EndedAt: 2025-02-03 15:45:25 -0500 (Mon, 03 Feb 2025) EllapsedTime: 66.9 seconds RetCode: 0 Status: OK