Package: gcapc Version: 1.30.0 Command: /home/biocbuild/bbs-3.20-bioc/R/bin/R CMD INSTALL gcapc StartedAt: 2025-02-03 15:32:05 -0500 (Mon, 03 Feb 2025) EndedAt: 2025-02-03 15:32:38 -0500 (Mon, 03 Feb 2025) EllapsedTime: 32.4 seconds RetCode: 0 Status: OK