Package: gcatest Version: 2.6.0 Command: rm -rf gcatest.buildbin-libdir && mkdir gcatest.buildbin-libdir && /Users/biocbuild/BBS/utils/build-universal.sh gcatest_2.6.0.tar.gz /Library/Frameworks/R.framework/Resources/bin/R gcatest.buildbin-libdir StartedAt: 2025-02-05 15:55:42 -0500 (Wed, 05 Feb 2025) EndedAt: 2025-02-05 15:55:51 -0500 (Wed, 05 Feb 2025) EllapsedTime: 9.1 seconds RetCode: 0 Status: OK PackageFile: gcatest_2.6.0.tgz PackageFileSize: 3.356 MiB