Package: gcatest
Version: 2.6.0
Command: /Library/Frameworks/R.framework/Resources/bin/R CMD INSTALL gcatest
StartedAt: 2025-02-17 15:11:58 -0500 (Mon, 17 Feb 2025)
EndedAt: 2025-02-17 15:12:08 -0500 (Mon, 17 Feb 2025)
EllapsedTime: 9.7 seconds
RetCode: 0
Status: OK