Package: gcatest Version: 2.6.0 Command: /home/biocbuild/R/R/bin/R CMD INSTALL gcatest StartedAt: 2025-02-03 20:24:38 -0000 (Mon, 03 Feb 2025) EndedAt: 2025-02-03 20:25:06 -0000 (Mon, 03 Feb 2025) EllapsedTime: 27.9 seconds RetCode: 0 Status: OK