Package: gcrma Version: 2.78.0 Command: rm -rf gcrma.buildbin-libdir && mkdir gcrma.buildbin-libdir && /Users/biocbuild/BBS/utils/build-universal.sh gcrma_2.78.0.tar.gz /Library/Frameworks/R.framework/Resources/bin/R gcrma.buildbin-libdir StartedAt: 2025-02-05 15:55:51 -0500 (Wed, 05 Feb 2025) EndedAt: 2025-02-05 15:56:07 -0500 (Wed, 05 Feb 2025) EllapsedTime: 15.9 seconds RetCode: 0 Status: OK PackageFile: gcrma_2.78.0.tgz PackageFileSize: 388.2 KiB