Package: gcrma Version: 2.78.0 Command: /Library/Frameworks/R.framework/Resources/bin/R CMD build --keep-empty-dirs --no-resave-data gcrma StartedAt: 2025-02-03 23:58:20 -0500 (Mon, 03 Feb 2025) EndedAt: 2025-02-03 23:58:43 -0500 (Mon, 03 Feb 2025) EllapsedTime: 23.0 seconds RetCode: 0 Status: OK PackageFile: gcrma_2.78.0.tar.gz PackageFileSize: 288.9 KiB