Package: gcrma Version: 2.78.0 Command: /Library/Frameworks/R.framework/Resources/bin/R CMD INSTALL gcrma StartedAt: 2025-02-03 15:30:37 -0500 (Mon, 03 Feb 2025) EndedAt: 2025-02-03 15:30:50 -0500 (Mon, 03 Feb 2025) EllapsedTime: 13.4 seconds RetCode: 0 Status: OK