Package: gcrma Version: 2.78.0 Command: F:\biocbuild\bbs-3.20-bioc\R\bin\R.exe CMD INSTALL gcrma StartedAt: 2025-02-03 15:53:40 -0500 (Mon, 03 Feb 2025) EndedAt: 2025-02-03 15:54:01 -0500 (Mon, 03 Feb 2025) EllapsedTime: 21.2 seconds RetCode: 0 Status: OK