Package: gcrma Version: 2.78.0 Command: /home/biocbuild/R/R/bin/R CMD build --keep-empty-dirs --no-resave-data gcrma StartedAt: 2025-02-03 23:44:00 -0000 (Mon, 03 Feb 2025) EndedAt: 2025-02-03 23:44:17 -0000 (Mon, 03 Feb 2025) EllapsedTime: 17.0 seconds RetCode: 0 Status: OK PackageFile: gcrma_2.78.0.tar.gz PackageFileSize: 278.2 KiB