Package: gdsfmt Version: 1.42.1 Command: /Library/Frameworks/R.framework/Resources/bin/R CMD build --keep-empty-dirs --no-resave-data gdsfmt StartedAt: 2025-02-03 19:05:21 -0500 (Mon, 03 Feb 2025) EndedAt: 2025-02-03 19:11:55 -0500 (Mon, 03 Feb 2025) EllapsedTime: 394.3 seconds RetCode: 0 Status: OK PackageFile: gdsfmt_1.42.1.tar.gz PackageFileSize: 2.796 MiB