Package: gdsfmt
Version: 1.41.0
Command: rm -rf gdsfmt.buildbin-libdir && mkdir gdsfmt.buildbin-libdir && F:\biocbuild\bbs-3.20-bioc\R\bin\R.exe CMD INSTALL --build --library=gdsfmt.buildbin-libdir gdsfmt_1.41.0.tar.gz
StartedAt: 2024-06-10 13:41:31 -0400 (Mon, 10 Jun 2024)
EndedAt: 2024-06-10 13:45:53 -0400 (Mon, 10 Jun 2024)
EllapsedTime: 261.8 seconds
RetCode: 0
Status: OK
PackageFile: gdsfmt_1.41.0.zip
PackageFileSize: 1.806 <A href="http://en.wikipedia.org/wiki/MiB" target="_blank">MiB</A>