Package: gdsfmt Version: 1.41.0 Command: rm -rf gdsfmt.buildbin-libdir && mkdir gdsfmt.buildbin-libdir && C:\Users\biocbuild\bbs-3.20-bioc\R\bin\R.exe CMD INSTALL --build --library=gdsfmt.buildbin-libdir gdsfmt_1.41.0.tar.gz StartedAt: 2024-07-16 06:13:21 -0400 (Tue, 16 Jul 2024) EndedAt: 2024-07-16 06:17:08 -0400 (Tue, 16 Jul 2024) EllapsedTime: 226.8 seconds RetCode: 0 Status: OK PackageFile: gdsfmt_1.41.0.zip PackageFileSize: 1.807 MiB