Package: gdsfmt Version: 1.42.1 Command: rm -rf gdsfmt.buildbin-libdir && mkdir gdsfmt.buildbin-libdir && F:\biocbuild\bbs-3.20-bioc\R\bin\R.exe CMD INSTALL --build --library=gdsfmt.buildbin-libdir gdsfmt_1.42.1.tar.gz StartedAt: 2025-02-04 08:32:35 -0500 (Tue, 04 Feb 2025) EndedAt: 2025-02-04 08:36:45 -0500 (Tue, 04 Feb 2025) EllapsedTime: 250.0 seconds RetCode: 0 Status: OK PackageFile: gdsfmt_1.42.1.zip PackageFileSize: 1.804 MiB