Package: gdsfmt Version: 1.42.1 Command: F:\biocbuild\bbs-3.20-bioc\R\bin\R.exe CMD check --no-multiarch --install=check:gdsfmt.install-out.txt --library=F:\biocbuild\bbs-3.20-bioc\R\library --no-vignettes --timings gdsfmt_1.42.1.tar.gz StartedAt: 2025-02-04 02:02:39 -0500 (Tue, 04 Feb 2025) EndedAt: 2025-02-04 02:07:15 -0500 (Tue, 04 Feb 2025) EllapsedTime: 276.3 seconds RetCode: 0 Status: OK CheckDir: gdsfmt.Rcheck Warnings: 0