Package: gdsfmt Version: 1.42.1 Command: /home/biocbuild/R/R/bin/R CMD build --keep-empty-dirs --no-resave-data gdsfmt StartedAt: 2025-02-03 23:45:31 -0000 (Mon, 03 Feb 2025) EndedAt: 2025-02-03 23:50:54 -0000 (Mon, 03 Feb 2025) EllapsedTime: 323.1 seconds RetCode: 0 Status: OK PackageFile: gdsfmt_1.42.1.tar.gz PackageFileSize: 2.817 MiB