Package: gdsfmt Version: 1.42.1 Command: /home/biocbuild/R/R/bin/R CMD INSTALL gdsfmt StartedAt: 2025-02-03 20:21:20 -0000 (Mon, 03 Feb 2025) EndedAt: 2025-02-03 20:26:15 -0000 (Mon, 03 Feb 2025) EllapsedTime: 295.2 seconds RetCode: 0 Status: OK