Package: geNetClassifier Version: 1.46.0 Command: /Library/Frameworks/R.framework/Resources/bin/R CMD build --keep-empty-dirs --no-resave-data geNetClassifier StartedAt: 2025-02-04 00:07:50 -0500 (Tue, 04 Feb 2025) EndedAt: 2025-02-04 00:08:16 -0500 (Tue, 04 Feb 2025) EllapsedTime: 26.4 seconds RetCode: 0 Status: OK PackageFile: geNetClassifier_1.46.0.tar.gz PackageFileSize: 3.939 MiB