Package: geNetClassifier Version: 1.46.0 Command: /Library/Frameworks/R.framework/Resources/bin/R CMD build --keep-empty-dirs --no-resave-data geNetClassifier StartedAt: 2025-02-03 19:08:22 -0500 (Mon, 03 Feb 2025) EndedAt: 2025-02-03 19:09:02 -0500 (Mon, 03 Feb 2025) EllapsedTime: 40.5 seconds RetCode: 0 Status: OK PackageFile: geNetClassifier_1.46.0.tar.gz PackageFileSize: 3.94 MiB