Package: geNetClassifier Version: 1.46.0 Command: /home/biocbuild/bbs-3.20-bioc/R/bin/R CMD INSTALL geNetClassifier StartedAt: 2025-02-03 16:03:31 -0500 (Mon, 03 Feb 2025) EndedAt: 2025-02-03 16:03:41 -0500 (Mon, 03 Feb 2025) EllapsedTime: 10.1 seconds RetCode: 0 Status: OK