Package: geNetClassifier Version: 1.46.0 Command: chmod a+r geNetClassifier -R && F:\biocbuild\bbs-3.20-bioc\R\bin\R.exe CMD build --keep-empty-dirs --no-resave-data geNetClassifier StartedAt: 2025-02-03 19:22:47 -0500 (Mon, 03 Feb 2025) EndedAt: 2025-02-03 19:23:24 -0500 (Mon, 03 Feb 2025) EllapsedTime: 37.5 seconds RetCode: 0 Status: OK PackageFile: geNetClassifier_1.46.0.tar.gz PackageFileSize: 3.689 MiB