Package: geNetClassifier Version: 1.46.0 Command: /home/biocbuild/R/R/bin/R CMD build --keep-empty-dirs --no-resave-data geNetClassifier StartedAt: 2025-02-03 23:48:29 -0000 (Mon, 03 Feb 2025) EndedAt: 2025-02-03 23:48:49 -0000 (Mon, 03 Feb 2025) EllapsedTime: 20.0 seconds RetCode: 0 Status: OK PackageFile: geNetClassifier_1.46.0.tar.gz PackageFileSize: 3.929 MiB