Package: geNetClassifier Version: 1.46.0 Command: /home/biocbuild/R/R/bin/R CMD check --install=check:geNetClassifier.install-out.txt --library=/home/biocbuild/R/R/site-library --no-vignettes --timings geNetClassifier_1.46.0.tar.gz StartedAt: 2025-02-04 07:16:55 -0000 (Tue, 04 Feb 2025) EndedAt: 2025-02-04 07:17:50 -0000 (Tue, 04 Feb 2025) EllapsedTime: 55.1 seconds RetCode: 1 Status: ERROR CheckDir: geNetClassifier.Rcheck Warnings: NA