Package: geNetClassifier Version: 1.46.0 Command: /home/biocbuild/R/R/bin/R CMD INSTALL geNetClassifier StartedAt: 2025-02-10 21:02:55 -0000 (Mon, 10 Feb 2025) EndedAt: 2025-02-10 21:03:07 -0000 (Mon, 10 Feb 2025) EllapsedTime: 12.1 seconds RetCode: 0 Status: OK