Package: gemini Version: 1.20.0 Command: /Library/Frameworks/R.framework/Resources/bin/R CMD INSTALL gemini StartedAt: 2025-02-03 17:10:29 -0500 (Mon, 03 Feb 2025) EndedAt: 2025-02-03 17:10:42 -0500 (Mon, 03 Feb 2025) EllapsedTime: 13.0 seconds RetCode: 0 Status: OK