Package: gemini
Version: 1.20.0
Command: /Library/Frameworks/R.framework/Resources/bin/R CMD check --install=check:gemini.install-out.txt --library=/Library/Frameworks/R.framework/Resources/library --no-vignettes --timings gemini_1.20.0.tar.gz
StartedAt: 2024-11-09 02:54:04 -0500 (Sat, 09 Nov 2024)
EndedAt: 2024-11-09 02:58:35 -0500 (Sat, 09 Nov 2024)
EllapsedTime: 271.7 seconds
RetCode: 0
Status: OK
CheckDir: gemini.Rcheck
Warnings: 0