Package: gemini Version: 1.20.0 Command: /Library/Frameworks/R.framework/Resources/bin/R CMD build --keep-empty-dirs --no-resave-data gemini StartedAt: 2025-02-03 19:06:00 -0500 (Mon, 03 Feb 2025) EndedAt: 2025-02-03 19:07:01 -0500 (Mon, 03 Feb 2025) EllapsedTime: 61.5 seconds RetCode: 0 Status: OK PackageFile: gemini_1.20.0.tar.gz PackageFileSize: 4.113 MiB