Package: gemma.R Version: 3.2.1 Command: /Library/Frameworks/R.framework/Resources/bin/R CMD build --keep-empty-dirs --no-resave-data gemma.R StartedAt: 2025-02-04 00:02:22 -0500 (Tue, 04 Feb 2025) EndedAt: 2025-02-04 00:07:58 -0500 (Tue, 04 Feb 2025) EllapsedTime: 335.6 seconds RetCode: 0 Status: OK PackageFile: gemma.R_3.2.1.tar.gz PackageFileSize: 2.122 MiB